BEGIN:VCALENDAR
VERSION:2.0
PRODID:-//Three Angles Production - ECPv6.3.3//NONSGML v1.0//EN
CALSCALE:GREGORIAN
METHOD:PUBLISH
X-WR-CALNAME:Three Angles Production
X-ORIGINAL-URL:https://threeangles.asia
X-WR-CALDESC:Events for Three Angles Production
REFRESH-INTERVAL;VALUE=DURATION:PT1H
X-Robots-Tag:noindex
X-PUBLISHED-TTL:PT1H
BEGIN:VTIMEZONE
TZID:Asia/Jakarta
BEGIN:STANDARD
TZOFFSETFROM:+0700
TZOFFSETTO:+0700
TZNAME:WIB
DTSTART:20240101T000000
END:STANDARD
TZID:UTC
BEGIN:STANDARD
TZOFFSETFROM:+0000
TZOFFSETTO:+0000
TZNAME:UTC
DTSTART:20240101T000000
END:STANDARD
END:VTIMEZONE
BEGIN:VEVENT
DTSTART;TZID=Asia/Jakarta:20240316T203000
DTEND;TZID=Asia/Jakarta:20240316T203000
DTSTAMP:20260421T171832
CREATED:20240213T100253Z
LAST-MODIFIED:20240217T121307Z
UID:22195-1710621000-1710621000@threeangles.asia
SUMMARY:FTISLAND LIVE "HEY DAY" IN JAKARTA
DESCRIPTION:ARE YOU READY FOR FTISLAND LIVE “HEY DAY” CONCERT IN JAKARTA?! \nSouth Korean rock band FTISLAND is all set to rock Jakarta for the very first time with their “2024 FTISLAND LIVE “HEY DAY” IN JAKARTA” concert at The Kasablanka Hall on 16 \nMarch 2024. \nPRIMADONNAS\, this is your chance to see them live! Grab your tickets now because this is a night you won’t want to miss!
URL:https://threeangles.asia/event/2024-ftisland-live-hey-day-in-jakarta/
LOCATION:The Kasablanka Hall
CATEGORIES:KPop Concert
ATTACH;FMTTYPE=image/jpeg:https://threeangles.asia/wp-content/uploads/2024/02/ftisland_jakarta.jpg
ORGANIZER;CN="Three Angles Production":MAILTO:info@threeangles.asia
END:VEVENT
BEGIN:VEVENT
DTSTART;TZID=UTC:20240315T203000
DTEND;TZID=UTC:20240315T203000
DTSTAMP:20260421T171832
CREATED:20240213T104536Z
LAST-MODIFIED:20240217T121732Z
UID:22208-1710534600-1710534600@threeangles.asia
SUMMARY:BOBBY ZERO GRAVITY TOUR in Jakarta
DESCRIPTION:Ready to launch into the 2024 “BOBBY ZERO GRAVITY TOUR” in JAKARTA? Check out our FAQ guide below for all the need-to-know details for the exciting night to come 🌌✨ \nTickets will officially go on sale on 15 February at 12:00 noon via http://id.bookmyshow.com 🎫 \n#BOBBY #바비 #iKON #아이콘\n#ZERO_GRAVITY #BOBBYinJKT\n#143inc #ArcherMedia\n#TAP #ThreeAnglesProduction
URL:https://threeangles.asia/event/bobby-zero-gravity-tour-in-jakarta/
LOCATION:Seri Kembangan\, Selangor
ATTACH;FMTTYPE=image/jpeg:https://threeangles.asia/wp-content/uploads/2024/02/BOBBY-JKT_Ticketing_1295x500-scaled.jpg
ORGANIZER;CN="Three Angles Production":MAILTO:info@threeangles.asia
END:VEVENT
END:VCALENDAR